BEGIN:VCALENDAR
VERSION:2.0
PRODID:-//NADI Pekan Tampin - ECPv6.15.13.1//NONSGML v1.0//EN
CALSCALE:GREGORIAN
METHOD:PUBLISH
X-WR-CALNAME:NADI Pekan Tampin
X-ORIGINAL-URL:https://pekantampin.nadi.my
X-WR-CALDESC:Events for NADI Pekan Tampin
REFRESH-INTERVAL;VALUE=DURATION:PT1H
X-Robots-Tag:noindex
X-PUBLISHED-TTL:PT1H
BEGIN:VTIMEZONE
TZID:Asia/Kuala_Lumpur
BEGIN:STANDARD
TZOFFSETFROM:+0800
TZOFFSETTO:+0800
TZNAME:+08
DTSTART:20250101T000000
END:STANDARD
END:VTIMEZONE
BEGIN:VEVENT
DTSTART;TZID=Asia/Kuala_Lumpur:20260103T143000
DTEND;TZID=Asia/Kuala_Lumpur:20260103T163000
DTSTAMP:20260420T002654
CREATED:20260103T070717Z
LAST-MODIFIED:20260103T070744Z
UID:2400-1767450600-1767457800@pekantampin.nadi.my
SUMMARY:NADI x DILEA : WEBINAR BERKALA SAINS EDISI 1
DESCRIPTION:
URL:https://pekantampin.nadi.my/event/nadi-x-dilea-webinar-berkala-sains-edisi-1/
CATEGORIES:DEFAULT
END:VEVENT
BEGIN:VEVENT
DTSTART;TZID=Asia/Kuala_Lumpur:20260105T153000
DTEND;TZID=Asia/Kuala_Lumpur:20260105T163000
DTSTAMP:20260420T002654
CREATED:20260103T071020Z
LAST-MODIFIED:20260103T071020Z
UID:2402-1767627000-1767630600@pekantampin.nadi.my
SUMMARY:NADI x DILEA : OPEN TUITION FORM 1 – 5 MATEMATIK
DESCRIPTION:
URL:https://pekantampin.nadi.my/event/nadi-x-dilea-open-tuition-form-1-5-matematik/
CATEGORIES:DEFAULT
END:VEVENT
BEGIN:VEVENT
DTSTART;TZID=Asia/Kuala_Lumpur:20260105T153000
DTEND;TZID=Asia/Kuala_Lumpur:20260105T163000
DTSTAMP:20260420T002654
CREATED:20260106T032919Z
LAST-MODIFIED:20260106T032919Z
UID:2418-1767627000-1767630600@pekantampin.nadi.my
SUMMARY:NADI x DILEA : GUIDANCE TUITION FORM 4 MATEMATIK
DESCRIPTION:
URL:https://pekantampin.nadi.my/event/nadi-x-dilea-guidance-tuition-form-4-matematik/
CATEGORIES:DEFAULT
END:VEVENT
BEGIN:VEVENT
DTSTART;TZID=Asia/Kuala_Lumpur:20260106T153000
DTEND;TZID=Asia/Kuala_Lumpur:20260106T163000
DTSTAMP:20260420T002654
CREATED:20260106T032430Z
LAST-MODIFIED:20260106T032430Z
UID:2408-1767713400-1767717000@pekantampin.nadi.my
SUMMARY:NADI x DILEA : OPEN TUITION FORM 1 – 5 BAHASA INGGERIS
DESCRIPTION:
URL:https://pekantampin.nadi.my/event/nadi-x-dilea-open-tuition-form-1-5-bahasa-inggeris/
CATEGORIES:DEFAULT
END:VEVENT
BEGIN:VEVENT
DTSTART;TZID=Asia/Kuala_Lumpur:20260106T153000
DTEND;TZID=Asia/Kuala_Lumpur:20260106T163000
DTSTAMP:20260420T002654
CREATED:20260106T033012Z
LAST-MODIFIED:20260106T033012Z
UID:2420-1767713400-1767717000@pekantampin.nadi.my
SUMMARY:NADI x DILEA : GUIDANCE TUITION FORM 4 BAHASA MELAYU
DESCRIPTION:
URL:https://pekantampin.nadi.my/event/nadi-x-dilea-guidance-tuition-form-4-bahasa-melayu/
CATEGORIES:DEFAULT
END:VEVENT
BEGIN:VEVENT
DTSTART;TZID=Asia/Kuala_Lumpur:20260108T150000
DTEND;TZID=Asia/Kuala_Lumpur:20260108T163000
DTSTAMP:20260420T002654
CREATED:20260103T071837Z
LAST-MODIFIED:20260103T071837Z
UID:2404-1767884400-1767889800@pekantampin.nadi.my
SUMMARY:NADI x MAHIR : FORUM BERSAMA KOMUNITI
DESCRIPTION:
URL:https://pekantampin.nadi.my/event/nadi-x-mahir-forum-bersama-komuniti/
CATEGORIES:DEFAULT
END:VEVENT
BEGIN:VEVENT
DTSTART;TZID=Asia/Kuala_Lumpur:20260108T153000
DTEND;TZID=Asia/Kuala_Lumpur:20260108T163000
DTSTAMP:20260420T002654
CREATED:20260106T032714Z
LAST-MODIFIED:20260106T032714Z
UID:2414-1767886200-1767889800@pekantampin.nadi.my
SUMMARY:NADI x DILEA : OPEN TUITION FORM 1 – 5 BAHASA MELAYU
DESCRIPTION:
URL:https://pekantampin.nadi.my/event/nadi-x-dilea-open-tuition-form-1-5-bahasa-melayu/
CATEGORIES:DEFAULT
END:VEVENT
BEGIN:VEVENT
DTSTART;TZID=Asia/Kuala_Lumpur:20260108T153000
DTEND;TZID=Asia/Kuala_Lumpur:20260108T163000
DTSTAMP:20260420T002654
CREATED:20260106T033052Z
LAST-MODIFIED:20260106T033052Z
UID:2422-1767886200-1767889800@pekantampin.nadi.my
SUMMARY:NADI x DILEA : GUIDANCE TUITION FORM 4 SEJARAH
DESCRIPTION:
URL:https://pekantampin.nadi.my/event/nadi-x-dilea-guidance-tuition-form-4-sejarah/
CATEGORIES:DEFAULT
END:VEVENT
BEGIN:VEVENT
DTSTART;VALUE=DATE:20260109
DTEND;VALUE=DATE:20260110
DTSTAMP:20260420T002654
CREATED:20260109T083327Z
LAST-MODIFIED:20260109T083337Z
UID:2497-1767916800-1768003199@pekantampin.nadi.my
SUMMARY:NADI x E-SPORT : PENGENALAN E-SUKAN - DARIPADA HOBI KEPADA PROGRAM KOMPETITIF BERSTRUKTUR
DESCRIPTION:
URL:https://pekantampin.nadi.my/event/nadi-x-e-sport-pengenalan-e-sukan-daripada-hobi-kepada-program-kompetitif-berstruktur/
CATEGORIES:DEFAULT
END:VEVENT
BEGIN:VEVENT
DTSTART;TZID=Asia/Kuala_Lumpur:20260109T153000
DTEND;TZID=Asia/Kuala_Lumpur:20260109T163000
DTSTAMP:20260420T002654
CREATED:20260106T033122Z
LAST-MODIFIED:20260106T033122Z
UID:2424-1767972600-1767976200@pekantampin.nadi.my
SUMMARY:NADI x DILEA : GUIDANCE TUITION FORM 4 BAHASA INGGERIS
DESCRIPTION:
URL:https://pekantampin.nadi.my/event/nadi-x-dilea-guidance-tuition-form-4-bahasa-inggeris/
CATEGORIES:DEFAULT
END:VEVENT
BEGIN:VEVENT
DTSTART;TZID=Asia/Kuala_Lumpur:20260110T100000
DTEND;TZID=Asia/Kuala_Lumpur:20260110T113000
DTSTAMP:20260420T002654
CREATED:20260109T083616Z
LAST-MODIFIED:20260109T083616Z
UID:2500-1768039200-1768044600@pekantampin.nadi.my
SUMMARY:NADI x KIDVENTURE : WEBINAR PELAN PERNIAGAAN MINI 1
DESCRIPTION:
URL:https://pekantampin.nadi.my/event/nadi-x-kidventure-webinar-pelan-perniagaan-mini-1/
CATEGORIES:DEFAULT
END:VEVENT
BEGIN:VEVENT
DTSTART;TZID=Asia/Kuala_Lumpur:20260110T141500
DTEND;TZID=Asia/Kuala_Lumpur:20260110T151500
DTSTAMP:20260420T002654
CREATED:20260106T033210Z
LAST-MODIFIED:20260106T033210Z
UID:2426-1768054500-1768058100@pekantampin.nadi.my
SUMMARY:NADI x DILEA : GUIDANCE TUITION FORM 5 SEJARAH
DESCRIPTION:
URL:https://pekantampin.nadi.my/event/nadi-x-dilea-guidance-tuition-form-5-sejarah/
CATEGORIES:DEFAULT
END:VEVENT
BEGIN:VEVENT
DTSTART;TZID=Asia/Kuala_Lumpur:20260110T143000
DTEND;TZID=Asia/Kuala_Lumpur:20260110T163000
DTSTAMP:20260420T002654
CREATED:20260106T040503Z
LAST-MODIFIED:20260106T040503Z
UID:2458-1768055400-1768062600@pekantampin.nadi.my
SUMMARY:NADI x DILEA : WEBINAR BERKALA SAINS EDISI 2 FORM 4 & 5
DESCRIPTION:
URL:https://pekantampin.nadi.my/event/nadi-x-dilea-webinar-berkala-sains-edisi-2-form-4-5/
CATEGORIES:DEFAULT
END:VEVENT
BEGIN:VEVENT
DTSTART;TZID=Asia/Kuala_Lumpur:20260110T153000
DTEND;TZID=Asia/Kuala_Lumpur:20260110T163000
DTSTAMP:20260420T002654
CREATED:20260106T033234Z
LAST-MODIFIED:20260106T033234Z
UID:2428-1768059000-1768062600@pekantampin.nadi.my
SUMMARY:NADI x DILEA : GUIDANCE TUITION FORM 5 MATEMATIK
DESCRIPTION:
URL:https://pekantampin.nadi.my/event/nadi-x-dilea-guidance-tuition-form-5-matematik/
CATEGORIES:DEFAULT
END:VEVENT
BEGIN:VEVENT
DTSTART;VALUE=DATE:20260111
DTEND;VALUE=DATE:20260112
DTSTAMP:20260420T002654
CREATED:20260106T033924Z
LAST-MODIFIED:20260106T033924Z
UID:2434-1768089600-1768175999@pekantampin.nadi.my
SUMMARY:NADI x DILEA : ENGLISH PROFICIENCY FORM 4 & 5
DESCRIPTION:
URL:https://pekantampin.nadi.my/event/nadi-x-dilea-english-proficiency-form-4-5/
CATEGORIES:DEFAULT
END:VEVENT
BEGIN:VEVENT
DTSTART;VALUE=DATE:20260111
DTEND;VALUE=DATE:20260112
DTSTAMP:20260420T002654
CREATED:20260111T024712Z
LAST-MODIFIED:20260111T032719Z
UID:2517-1768089600-1768175999@pekantampin.nadi.my
SUMMARY:NADI x ENTREPRENUER (NADIPRENEUR & EMPOWERHER) : VIDEO PRA LATIHAN PERANCANGAN PERNIAGAAN "CERITA BISNES PAK ABU"
DESCRIPTION:
URL:https://pekantampin.nadi.my/event/nadi-x-entreprenuer-nadipreneur-empowher-video-pra-latihan-perancangan-perniagaan-cerita-bisnes-pak-abu/
CATEGORIES:DEFAULT
END:VEVENT
BEGIN:VEVENT
DTSTART;TZID=Asia/Kuala_Lumpur:20260111T141500
DTEND;TZID=Asia/Kuala_Lumpur:20260111T151500
DTSTAMP:20260420T002654
CREATED:20260106T033311Z
LAST-MODIFIED:20260106T033311Z
UID:2430-1768140900-1768144500@pekantampin.nadi.my
SUMMARY:NADI x DILEA : GUIDANCE TUITION FORM 5 BAHASA MELAYU
DESCRIPTION:
URL:https://pekantampin.nadi.my/event/nadi-x-dilea-guidance-tuition-form-5-bahasa-melayu/
CATEGORIES:DEFAULT
END:VEVENT
BEGIN:VEVENT
DTSTART;TZID=Asia/Kuala_Lumpur:20260111T153000
DTEND;TZID=Asia/Kuala_Lumpur:20260111T163000
DTSTAMP:20260420T002654
CREATED:20260106T033338Z
LAST-MODIFIED:20260106T033338Z
UID:2432-1768145400-1768149000@pekantampin.nadi.my
SUMMARY:NADI x DILEA : GUIDANCE TUITION FORM 5 BAHASA INGGERIS
DESCRIPTION:
URL:https://pekantampin.nadi.my/event/nadi-x-dilea-guidance-tuition-form-5-bahasa-inggeris/
CATEGORIES:DEFAULT
END:VEVENT
BEGIN:VEVENT
DTSTART;TZID=Asia/Kuala_Lumpur:20260112T153000
DTEND;TZID=Asia/Kuala_Lumpur:20260112T163000
DTSTAMP:20260420T002654
CREATED:20260106T035153Z
LAST-MODIFIED:20260106T035153Z
UID:2438-1768231800-1768235400@pekantampin.nadi.my
SUMMARY:NADI x DILEA : OPEN TUITION FORM 1 – 5 SEJARAH
DESCRIPTION:
URL:https://pekantampin.nadi.my/event/nadi-x-dilea-open-tuition-form-1-5-sejarah/
CATEGORIES:DEFAULT
END:VEVENT
BEGIN:VEVENT
DTSTART;VALUE=DATE:20260113
DTEND;VALUE=DATE:20260114
DTSTAMP:20260420T002654
CREATED:20260111T031942Z
LAST-MODIFIED:20260111T032702Z
UID:2531-1768262400-1768348799@pekantampin.nadi.my
SUMMARY:NADI x ENTREPRENUER (NADIPRENEUR & EMPOWERHER) : VIDEO PRA LATIHAN PERANCANGAN KEWANGAN “APA ITU BISNES PLAN”
DESCRIPTION:
URL:https://pekantampin.nadi.my/event/nadi-x-entreprenuer-nadipreneur-empowher-video-pra-latihan-perancangan-kewangan-apa-itu-bisnes-plan/
CATEGORIES:DEFAULT
END:VEVENT
BEGIN:VEVENT
DTSTART;TZID=Asia/Kuala_Lumpur:20260113T093000
DTEND;TZID=Asia/Kuala_Lumpur:20260113T110000
DTSTAMP:20260420T002654
CREATED:20260106T035457Z
LAST-MODIFIED:20260106T035457Z
UID:2441-1768296600-1768302000@pekantampin.nadi.my
SUMMARY:NADI x MAHIR FOTO
DESCRIPTION:
URL:https://pekantampin.nadi.my/event/nadi-x-mahir-foto/
CATEGORIES:DEFAULT
END:VEVENT
BEGIN:VEVENT
DTSTART;TZID=Asia/Kuala_Lumpur:20260115T100000
DTEND;TZID=Asia/Kuala_Lumpur:20260115T120000
DTSTAMP:20260420T002654
CREATED:20260111T032414Z
LAST-MODIFIED:20260111T032651Z
UID:2533-1768471200-1768478400@pekantampin.nadi.my
SUMMARY:NADI x ENTREPRENUER (NADIPRENEUR & EMPOWERHER) : WEBINAR PERANCANGAN PERNIAGAAN
DESCRIPTION:
URL:https://pekantampin.nadi.my/event/nadi-x-entreprenuer-nadipreneur-empowher-webinar-perancangan-perniagaan/
CATEGORIES:DEFAULT
END:VEVENT
BEGIN:VEVENT
DTSTART;TZID=Asia/Kuala_Lumpur:20260115T150000
DTEND;TZID=Asia/Kuala_Lumpur:20260115T163000
DTSTAMP:20260420T002654
CREATED:20260106T040023Z
LAST-MODIFIED:20260106T040023Z
UID:2456-1768489200-1768494600@pekantampin.nadi.my
SUMMARY:NADI x CYBERSECURITY : WEBINAR ANCAMAN SIBER DALAM DUNIA DIGITAL
DESCRIPTION:
URL:https://pekantampin.nadi.my/event/nadi-x-cybersecurity-webinar-ancaman-siber-dalam-dunia-digital/
CATEGORIES:DEFAULT
END:VEVENT
BEGIN:VEVENT
DTSTART;TZID=Asia/Kuala_Lumpur:20260119T153000
DTEND;TZID=Asia/Kuala_Lumpur:20260119T163000
DTSTAMP:20260420T002654
CREATED:20260106T032622Z
LAST-MODIFIED:20260106T032622Z
UID:2412-1768836600-1768840200@pekantampin.nadi.my
SUMMARY:NADI x DILEA : OPEN TUITION FORM 1 – 5 MATEMATIK
DESCRIPTION:
URL:https://pekantampin.nadi.my/event/nadi-x-dilea-open-tuition-form-1-5-matematik-2/
CATEGORIES:DEFAULT
END:VEVENT
BEGIN:VEVENT
DTSTART;TZID=Asia/Kuala_Lumpur:20260120T093000
DTEND;TZID=Asia/Kuala_Lumpur:20260120T110000
DTSTAMP:20260420T002654
CREATED:20260106T035534Z
LAST-MODIFIED:20260106T035534Z
UID:2443-1768901400-1768906800@pekantampin.nadi.my
SUMMARY:NADI x MAHIR FOTO
DESCRIPTION:
URL:https://pekantampin.nadi.my/event/nadi-x-mahir-foto-2/
CATEGORIES:DEFAULT
END:VEVENT
BEGIN:VEVENT
DTSTART;TZID=Asia/Kuala_Lumpur:20260120T153000
DTEND;TZID=Asia/Kuala_Lumpur:20260120T163000
DTSTAMP:20260420T002654
CREATED:20260106T032520Z
LAST-MODIFIED:20260106T032520Z
UID:2410-1768923000-1768926600@pekantampin.nadi.my
SUMMARY:NADI x DILEA : OPEN TUITION FORM 1 – 5 BAHASA INGGERIS
DESCRIPTION:
URL:https://pekantampin.nadi.my/event/nadi-x-dilea-open-tuition-form-1-5-bahasa-inggeris-2/
CATEGORIES:DEFAULT
END:VEVENT
BEGIN:VEVENT
DTSTART;TZID=Asia/Kuala_Lumpur:20260121T093000
DTEND;TZID=Asia/Kuala_Lumpur:20260121T110000
DTSTAMP:20260420T002654
CREATED:20260106T035632Z
LAST-MODIFIED:20260106T035632Z
UID:2447-1768987800-1768993200@pekantampin.nadi.my
SUMMARY:NADI x MAHIR MASAK
DESCRIPTION:
URL:https://pekantampin.nadi.my/event/nadi-x-mahir-masak/
CATEGORIES:DEFAULT
END:VEVENT
BEGIN:VEVENT
DTSTART;TZID=Asia/Kuala_Lumpur:20260121T150000
DTEND;TZID=Asia/Kuala_Lumpur:20260121T163000
DTSTAMP:20260420T002654
CREATED:20260106T035732Z
LAST-MODIFIED:20260106T035732Z
UID:2452-1769007600-1769013000@pekantampin.nadi.my
SUMMARY:NADI x MAHIR JAHIT
DESCRIPTION:
URL:https://pekantampin.nadi.my/event/nadi-x-mahir-jahit/
CATEGORIES:DEFAULT
END:VEVENT
BEGIN:VEVENT
DTSTART;TZID=Asia/Kuala_Lumpur:20260122T100000
DTEND;TZID=Asia/Kuala_Lumpur:20260122T120000
DTSTAMP:20260420T002654
CREATED:20260111T032443Z
LAST-MODIFIED:20260111T032625Z
UID:2535-1769076000-1769083200@pekantampin.nadi.my
SUMMARY:NADI x ENTREPRENUER (NADIPRENEUR & EMPOWERHER) : WEBINAR PERANCANGAN KEWANGAN
DESCRIPTION:
URL:https://pekantampin.nadi.my/event/nadi-x-entreprenuer-nadipreneur-empowher-webinar-perancangan-kewangan/
CATEGORIES:DEFAULT
END:VEVENT
BEGIN:VEVENT
DTSTART;TZID=Asia/Kuala_Lumpur:20260122T153000
DTEND;TZID=Asia/Kuala_Lumpur:20260122T163000
DTSTAMP:20260420T002654
CREATED:20260106T032748Z
LAST-MODIFIED:20260106T032748Z
UID:2416-1769095800-1769099400@pekantampin.nadi.my
SUMMARY:NADI x DILEA : OPEN TUITION FORM 1 – 5 BAHASA MELAYU
DESCRIPTION:
URL:https://pekantampin.nadi.my/event/nadi-x-dilea-open-tuition-form-1-5-bahasa-melayu-2/
CATEGORIES:DEFAULT
END:VEVENT
END:VCALENDAR