BEGIN:VCALENDAR
VERSION:2.0
PRODID:-//NADI Pekan Tampin - ECPv6.15.13.1//NONSGML v1.0//EN
CALSCALE:GREGORIAN
METHOD:PUBLISH
X-WR-CALNAME:NADI Pekan Tampin
X-ORIGINAL-URL:https://pekantampin.nadi.my
X-WR-CALDESC:Events for NADI Pekan Tampin
REFRESH-INTERVAL;VALUE=DURATION:PT1H
X-Robots-Tag:noindex
X-PUBLISHED-TTL:PT1H
BEGIN:VTIMEZONE
TZID:Asia/Kuala_Lumpur
BEGIN:STANDARD
TZOFFSETFROM:+0800
TZOFFSETTO:+0800
TZNAME:+08
DTSTART:20240101T000000
END:STANDARD
END:VTIMEZONE
BEGIN:VEVENT
DTSTART;TZID=Asia/Kuala_Lumpur:20251211T100000
DTEND;TZID=Asia/Kuala_Lumpur:20251211T113000
DTSTAMP:20260421T094005
CREATED:20251210T065934Z
LAST-MODIFIED:20251210T065934Z
UID:2159-1765447200-1765452600@pekantampin.nadi.my
SUMMARY:NADI x KEUSAHAWANAN COHORT 6 : WEBINAR PEMASARAN & OPERASI PERNIAGAAN
DESCRIPTION:
URL:https://pekantampin.nadi.my/event/nadi-x-keusahawanan-cohort-6-webinar-pemasaran-operasi-perniagaan/
CATEGORIES:DEFAULT
END:VEVENT
BEGIN:VEVENT
DTSTART;VALUE=DATE:20251215
DTEND;VALUE=DATE:20251216
DTSTAMP:20260421T094005
CREATED:20251210T071409Z
LAST-MODIFIED:20251210T071409Z
UID:2161-1765756800-1765843199@pekantampin.nadi.my
SUMMARY:NADI x KEUSAHAWANAN COHORT 6 : PODCAST EMPOWHER "INI JENAMA SAYA\, TOLONG JANGAN CIPLAK!"
DESCRIPTION:
URL:https://pekantampin.nadi.my/event/nadi-x-keusahawanan-cohort-6-podcast-empowher-ini-jenama-saya-tolong-jangan-ciplak/
CATEGORIES:DEFAULT
END:VEVENT
BEGIN:VEVENT
DTSTART;TZID=Asia/Kuala_Lumpur:20251215T091500
DTEND;TZID=Asia/Kuala_Lumpur:20251215T163000
DTSTAMP:20260421T094005
CREATED:20251210T072838Z
LAST-MODIFIED:20251210T072838Z
UID:2163-1765790100-1765816200@pekantampin.nadi.my
SUMMARY:NADI x DILEA : OPEN TUITION MATEMATIK FORM 1&2 (9:15AM - 10:15AM) FORM 3\,4&5 (3:30PM-4:30PM)
DESCRIPTION:
URL:https://pekantampin.nadi.my/event/nadi-x-dilea-open-tuition-matematik-form-12-915am-1015am-form-345-330pm-430pm/
CATEGORIES:DEFAULT
END:VEVENT
BEGIN:VEVENT
DTSTART;TZID=Asia/Kuala_Lumpur:20251216T091500
DTEND;TZID=Asia/Kuala_Lumpur:20251216T163000
DTSTAMP:20260421T094005
CREATED:20251210T073012Z
LAST-MODIFIED:20251210T073012Z
UID:2165-1765876500-1765902600@pekantampin.nadi.my
SUMMARY:NADI x DILEA : OPEN TUITION BAHASA INGGERIS FORM 1&2 (9:15AM - 10:15AM) FORM 3\,4&5 (3:30PM-4:30PM)
DESCRIPTION:
URL:https://pekantampin.nadi.my/event/nadi-x-dilea-open-tuition-bahasa-inggeris-form-12-915am-1015am-form-345-330pm-430pm/
CATEGORIES:DEFAULT
END:VEVENT
BEGIN:VEVENT
DTSTART;VALUE=DATE:20251217
DTEND;VALUE=DATE:20251218
DTSTAMP:20260421T094005
CREATED:20251210T073805Z
LAST-MODIFIED:20251210T073805Z
UID:2167-1765929600-1766015999@pekantampin.nadi.my
SUMMARY:NADI x KEUSAHAWANAN COHORT 6 : PODCAST NADIPRENEUR “TAWARAN NILAI HEBAT\, PELANGGAN PASTI TERPIKAT”
DESCRIPTION:
URL:https://pekantampin.nadi.my/event/nadi-x-keusahawanan-cohort-6-podcast-nadipreneur-tawaran-nilai-hebat-pelanggan-pasti-terpikat/
CATEGORIES:DEFAULT
END:VEVENT
BEGIN:VEVENT
DTSTART;TZID=Asia/Kuala_Lumpur:20251218T091500
DTEND;TZID=Asia/Kuala_Lumpur:20251218T163000
DTSTAMP:20260421T094005
CREATED:20251210T073910Z
LAST-MODIFIED:20251210T073910Z
UID:2169-1766049300-1766075400@pekantampin.nadi.my
SUMMARY:NADI x DILEA : OPEN TUITION BAHASA MELAYU FORM 1&2 (9:15AM – 10:15AM) FORM 3\,4&5 (3:30PM-4:30PM)
DESCRIPTION:
URL:https://pekantampin.nadi.my/event/nadi-x-dilea-open-tuition-bahasa-melayu-form-12-915am-1015am-form-345-330pm-430pm/
CATEGORIES:DEFAULT
END:VEVENT
BEGIN:VEVENT
DTSTART;TZID=Asia/Kuala_Lumpur:20251218T150000
DTEND;TZID=Asia/Kuala_Lumpur:20251218T163000
DTSTAMP:20260421T094005
CREATED:20251210T082517Z
LAST-MODIFIED:20251210T082517Z
UID:2171-1766070000-1766075400@pekantampin.nadi.my
SUMMARY:NADI x CYBERSECURITY : WEBINAR ANCAMAN KAMERA TERSEMBUNYI\, APA YANG PERLU ANDA TAHU SLOT 2
DESCRIPTION:
URL:https://pekantampin.nadi.my/event/nadi-x-cybersecurity-webinar-ancaman-kamera-tersembunyi-apa-yang-perlu-anda-tahu-slot-2/
CATEGORIES:DEFAULT
END:VEVENT
BEGIN:VEVENT
DTSTART;VALUE=DATE:20251222
DTEND;VALUE=DATE:20251223
DTSTAMP:20260421T094005
CREATED:20251219T032742Z
LAST-MODIFIED:20251219T040624Z
UID:2347-1766361600-1766447999@pekantampin.nadi.my
SUMMARY:SCHOOL FUN BREAK AT NADI x E SUKAN : PERTANDINGAN EFOOTBALL PERINGKAT NEGERI
DESCRIPTION:
URL:https://pekantampin.nadi.my/event/school-fun-break-at-nadi-x-e-sukan-pertandingan-efootball-peringkat-negeri/
CATEGORIES:DEFAULT
END:VEVENT
BEGIN:VEVENT
DTSTART;VALUE=DATE:20251222
DTEND;VALUE=DATE:20251223
DTSTAMP:20260421T094005
CREATED:20251219T023339Z
LAST-MODIFIED:20251219T040653Z
UID:2342-1766361600-1766447999@pekantampin.nadi.my
SUMMARY:SCHOOL FUN BREAK AT NADI x CYBERSECURITY : SIRI EDUSIBER @ NADI
DESCRIPTION:
URL:https://pekantampin.nadi.my/event/school-fun-break-at-nadi-x-cybersecurity-siri-edusiber-nadi/
CATEGORIES:DEFAULT
END:VEVENT
BEGIN:VEVENT
DTSTART;VALUE=DATE:20251222
DTEND;VALUE=DATE:20251223
DTSTAMP:20260421T094005
CREATED:20251219T032622Z
LAST-MODIFIED:20251219T040547Z
UID:2345-1766361600-1766447999@pekantampin.nadi.my
SUMMARY:SCHOOL FUN BREAK AT NADI x TINY TECHIES - KUIZ : TONTON\, BELAJAR\, BERMAIN !
DESCRIPTION:
URL:https://pekantampin.nadi.my/event/school-fun-break-at-nadi-x-tiny-techies-kuiz-tonton-belajar-bermain/
CATEGORIES:DEFAULT
END:VEVENT
BEGIN:VEVENT
DTSTART;TZID=Asia/Kuala_Lumpur:20251222T091500
DTEND;TZID=Asia/Kuala_Lumpur:20251222T163000
DTSTAMP:20260421T094005
CREATED:20251219T033320Z
LAST-MODIFIED:20251219T033320Z
UID:2351-1766394900-1766421000@pekantampin.nadi.my
SUMMARY:SCHOOL FUN BREAK AT NADI x DILEA : TUISYEN RAKYAT BERSAMA MR ALGEBRA - Tingkatan 1&2 (Sesi Pagi) 9:15AM-10:15AM) | Tingkatan 3\,4&5 (Sesi Petang) 3:30PM-4:30PM
DESCRIPTION:
URL:https://pekantampin.nadi.my/event/school-fun-break-at-nadi-x-dilea-tuisyen-rakyat-bersama-mr-algebra-tingkatan-12-sesi-pagi-915am-1015am-tingkatan-345-sesi-petang-330pm-430pm/
CATEGORIES:DEFAULT
END:VEVENT
BEGIN:VEVENT
DTSTART;TZID=Asia/Kuala_Lumpur:20251222T100000
DTEND;TZID=Asia/Kuala_Lumpur:20251222T110000
DTSTAMP:20260421T094005
CREATED:20251219T033726Z
LAST-MODIFIED:20251219T033726Z
UID:2355-1766397600-1766401200@pekantampin.nadi.my
SUMMARY:SCHOOL FUN BREAK AT NADI x KIDVENTURE : WEBINAR CUTI SEKOLAH BIJAK & PRODUKTIF
DESCRIPTION:
URL:https://pekantampin.nadi.my/event/school-fun-break-at-nadi-x-kidventure-webinar-cuti-sekolah-bijak-produktif/
CATEGORIES:DEFAULT
END:VEVENT
BEGIN:VEVENT
DTSTART;TZID=Asia/Kuala_Lumpur:20251222T103000
DTEND;TZID=Asia/Kuala_Lumpur:20251222T113000
DTSTAMP:20260421T094005
CREATED:20251219T034350Z
LAST-MODIFIED:20251219T034350Z
UID:2357-1766399400-1766403000@pekantampin.nadi.my
SUMMARY:SCHOOL FUN BREAK AT NADI x WELLBEING : GAJET SEBELUM TIDUR? OTAK KAU OVERHEAT!
DESCRIPTION:
URL:https://pekantampin.nadi.my/event/school-fun-break-at-nadi-x-wellbeing-gajet-sebelum-tidur-otak-kau-overheat/
CATEGORIES:DEFAULT
END:VEVENT
BEGIN:VEVENT
DTSTART;TZID=Asia/Kuala_Lumpur:20251222T150000
DTEND;TZID=Asia/Kuala_Lumpur:20251222T160000
DTSTAMP:20260421T094005
CREATED:20251219T035729Z
LAST-MODIFIED:20251219T035729Z
UID:2371-1766415600-1766419200@pekantampin.nadi.my
SUMMARY:SCHOOL FUN BREAK AT NADI x KEMPEN INTERNET SELAMAT (KIS) : KIS & KITA
DESCRIPTION:
URL:https://pekantampin.nadi.my/event/school-fun-break-at-nadi-x-kempen-internet-selamat-kis-kis-kita/
CATEGORIES:DEFAULT
END:VEVENT
BEGIN:VEVENT
DTSTART;TZID=Asia/Kuala_Lumpur:20251223T091500
DTEND;TZID=Asia/Kuala_Lumpur:20251223T163000
DTSTAMP:20260421T094005
CREATED:20251210T090045Z
LAST-MODIFIED:20251210T090045Z
UID:2174-1766481300-1766507400@pekantampin.nadi.my
SUMMARY:NADI x DILEA : OPEN TUITION SAINS FORM 1&2 (9:15AM – 10:15AM) FORM 3\,4&5 (3:30PM-4:30PM)
DESCRIPTION:
URL:https://pekantampin.nadi.my/event/nadi-x-dilea-open-tuition-sains-form-12-915am-1015am-form-345-330pm-430pm/
CATEGORIES:DEFAULT
END:VEVENT
BEGIN:VEVENT
DTSTART;TZID=Asia/Kuala_Lumpur:20251223T091500
DTEND;TZID=Asia/Kuala_Lumpur:20251223T163000
DTSTAMP:20260421T094005
CREATED:20251219T033427Z
LAST-MODIFIED:20251219T033427Z
UID:2353-1766481300-1766507400@pekantampin.nadi.my
SUMMARY:SCHOOL FUN BREAK AT NADI x DILEA : TUISYEN RAKYAT FUN LAB SAINS - Tingkatan 1&2 (Sesi Pagi) 9:15AM-10:15AM) | Tingkatan 3\,4&5 (Sesi Petang) 3:30PM-4:30PM
DESCRIPTION:
URL:https://pekantampin.nadi.my/event/school-fun-break-at-nadi-x-dilea-tuisyen-rakyat-fun-lab-sains-tingkatan-12-sesi-pagi-915am-1015am-tingkatan-345-sesi-petang-330pm-430pm/
CATEGORIES:DEFAULT
END:VEVENT
BEGIN:VEVENT
DTSTART;TZID=Asia/Kuala_Lumpur:20251223T103000
DTEND;TZID=Asia/Kuala_Lumpur:20251223T113000
DTSTAMP:20260421T094005
CREATED:20251219T034455Z
LAST-MODIFIED:20251219T034455Z
UID:2359-1766485800-1766489400@pekantampin.nadi.my
SUMMARY:SCHOOL FUN BREAK AT NADI x WELLBEING : TEKANAN DARAH TINGGI - DIAM-DIAM BOLEH BAWA MATI!?
DESCRIPTION:
URL:https://pekantampin.nadi.my/event/school-fun-break-at-nadi-x-wellbeing-tekanan-darah-tinggi-diam-diam-boleh-bawa-mati/
CATEGORIES:DEFAULT
END:VEVENT
BEGIN:VEVENT
DTSTART;TZID=Asia/Kuala_Lumpur:20251223T113000
DTEND;TZID=Asia/Kuala_Lumpur:20251223T123000
DTSTAMP:20260421T094005
CREATED:20251219T035254Z
LAST-MODIFIED:20251219T035254Z
UID:2367-1766489400-1766493000@pekantampin.nadi.my
SUMMARY:SCHOOL FUN BREAK AT NADI x MAHIR FOTO : WEBINAR NADI360 - SHOW YOUR SPOT
DESCRIPTION:
URL:https://pekantampin.nadi.my/event/school-fun-break-at-nadi-x-mahir-foto-webinar-nadi360-show-your-spot/
CATEGORIES:DEFAULT
END:VEVENT
BEGIN:VEVENT
DTSTART;TZID=Asia/Kuala_Lumpur:20251223T150000
DTEND;TZID=Asia/Kuala_Lumpur:20251223T160000
DTSTAMP:20260421T094005
CREATED:20251219T035759Z
LAST-MODIFIED:20251219T035759Z
UID:2373-1766502000-1766505600@pekantampin.nadi.my
SUMMARY:SCHOOL FUN BREAK AT NADI x KEMPEN INTERNET SELAMAT (KIS) : KIS WAR
DESCRIPTION:
URL:https://pekantampin.nadi.my/event/school-fun-break-at-nadi-x-kempen-internet-selamat-kis-kis-war/
CATEGORIES:DEFAULT
END:VEVENT
BEGIN:VEVENT
DTSTART;TZID=Asia/Kuala_Lumpur:20251224T093000
DTEND;TZID=Asia/Kuala_Lumpur:20251224T103000
DTSTAMP:20260421T094005
CREATED:20251219T040838Z
LAST-MODIFIED:20251219T040838Z
UID:2379-1766568600-1766572200@pekantampin.nadi.my
SUMMARY:SCHOOL FUN BREAK AT NADI x WELLBEING : SQUAD GLOW 2026!
DESCRIPTION:
URL:https://pekantampin.nadi.my/event/school-fun-break-at-nadi-x-wellbeing-squad-glow-2026/
CATEGORIES:DEFAULT
END:VEVENT
BEGIN:VEVENT
DTSTART;TZID=Asia/Kuala_Lumpur:20251224T150000
DTEND;TZID=Asia/Kuala_Lumpur:20251224T160000
DTSTAMP:20260421T094006
CREATED:20251219T035852Z
LAST-MODIFIED:20251219T035852Z
UID:2375-1766588400-1766592000@pekantampin.nadi.my
SUMMARY:SCHOOL FUN BREAK AT NADI x KEMPEN INTERNET SELAMAT (KIS) : JOM MEWARNA TINDAKAN BIJAK
DESCRIPTION:
URL:https://pekantampin.nadi.my/event/school-fun-break-at-nadi-x-kempen-internet-selamat-kis-jom-mewarna-tindakan-bijak/
CATEGORIES:DEFAULT
END:VEVENT
BEGIN:VEVENT
DTSTART;TZID=Asia/Kuala_Lumpur:20251226T103000
DTEND;TZID=Asia/Kuala_Lumpur:20251226T113000
DTSTAMP:20260421T094006
CREATED:20251219T034606Z
LAST-MODIFIED:20251219T034606Z
UID:2361-1766745000-1766748600@pekantampin.nadi.my
SUMMARY:SCHOOL FUN BREAK AT NADI x WELLBEING : 2026 BUKAN NAK KURUS - TAPI NAK SIHAT & POWER DARI SEKOLAH!
DESCRIPTION:
URL:https://pekantampin.nadi.my/event/school-fun-break-at-nadi-x-wellbeing-2026-bukan-nak-kurus-tapi-nak-sihat-power-dari-sekolah/
CATEGORIES:DEFAULT
END:VEVENT
BEGIN:VEVENT
DTSTART;TZID=Asia/Kuala_Lumpur:20251226T150000
DTEND;TZID=Asia/Kuala_Lumpur:20251226T160000
DTSTAMP:20260421T094006
CREATED:20251219T035936Z
LAST-MODIFIED:20251219T035936Z
UID:2377-1766761200-1766764800@pekantampin.nadi.my
SUMMARY:SCHOOL FUN BREAK AT NADI x KEMPEN INTERNET SELAMAT (KIS) : DETEKTIF SIBER
DESCRIPTION:
URL:https://pekantampin.nadi.my/event/school-fun-break-at-nadi-x-kempen-internet-selamat-kis-detektif-siber/
CATEGORIES:DEFAULT
END:VEVENT
BEGIN:VEVENT
DTSTART;TZID=Asia/Kuala_Lumpur:20251227T093000
DTEND;TZID=Asia/Kuala_Lumpur:20251227T103000
DTSTAMP:20260421T094006
CREATED:20251219T040941Z
LAST-MODIFIED:20251219T040941Z
UID:2381-1766827800-1766831400@pekantampin.nadi.my
SUMMARY:SCHOOL FUN BREAK AT NADI x WELLBEING : MOVE SQUAD EP3 | TAK BOLEH JATUH CHALLENGE! SIAPA PALING STABIL?
DESCRIPTION:
URL:https://pekantampin.nadi.my/event/school-fun-break-at-nadi-x-wellbeing-move-squad-ep3-tak-boleh-jatuh-challenge-siapa-paling-stabil/
CATEGORIES:DEFAULT
END:VEVENT
BEGIN:VEVENT
DTSTART;TZID=Asia/Kuala_Lumpur:20251227T143000
DTEND;TZID=Asia/Kuala_Lumpur:20251227T163000
DTSTAMP:20260421T094006
CREATED:20251219T035446Z
LAST-MODIFIED:20251219T035446Z
UID:2369-1766845800-1766853000@pekantampin.nadi.my
SUMMARY:SCHOOL FUN BREAK AT NADI x DILEA : WEBINAR MOTIVASI PELAJAR HALA TUJU SELEPAS SPM
DESCRIPTION:
URL:https://pekantampin.nadi.my/event/school-fun-break-at-nadi-x-dilea-webinar-motivasi-pelajar-hala-tuju-selepas-spm/
CATEGORIES:DEFAULT
END:VEVENT
BEGIN:VEVENT
DTSTART;TZID=Asia/Kuala_Lumpur:20251229T103000
DTEND;TZID=Asia/Kuala_Lumpur:20251229T113000
DTSTAMP:20260421T094006
CREATED:20251219T034641Z
LAST-MODIFIED:20251229T063459Z
UID:2363-1767004200-1767007800@pekantampin.nadi.my
SUMMARY:SCHOOL FUN BREAK AT NADI x WELLBEING : 3 SKILLS SURVIVAL
DESCRIPTION:
URL:https://pekantampin.nadi.my/event/school-fun-break-at-nadi-x-wellbeing-3-skills-survival/
CATEGORIES:DEFAULT
END:VEVENT
BEGIN:VEVENT
DTSTART;VALUE=DATE:20251230
DTEND;VALUE=DATE:20251231
DTSTAMP:20260421T094006
CREATED:20251219T032829Z
LAST-MODIFIED:20251219T032829Z
UID:2349-1767052800-1767139199@pekantampin.nadi.my
SUMMARY:SCHOOL FUN BREAK AT NADI x E SUKAN : PERTANDINGAN EFOOTBALL PERINGKAT KEBANGSAAN AKHIR
DESCRIPTION:
URL:https://pekantampin.nadi.my/event/school-fun-break-at-nadi-x-e-sukan-pertandingan-efootball-peringkat-kebangsaan-akhir/
CATEGORIES:DEFAULT
END:VEVENT
BEGIN:VEVENT
DTSTART;TZID=Asia/Kuala_Lumpur:20251230T103000
DTEND;TZID=Asia/Kuala_Lumpur:20251230T113000
DTSTAMP:20260421T094006
CREATED:20251219T034729Z
LAST-MODIFIED:20251219T034729Z
UID:2365-1767090600-1767094200@pekantampin.nadi.my
SUMMARY:SCHOOL FUN BREAK AT NADI x WELLBEING : KELUARGA SIHAT\, HATI TENANG - REHAT SEKEJAP\, PULIH BERSAMA
DESCRIPTION:
URL:https://pekantampin.nadi.my/event/school-fun-break-at-nadi-x-wellbeing-keluarga-sihat-hati-tenang-rehat-sekejap-pulih-bersama/
CATEGORIES:DEFAULT
END:VEVENT
BEGIN:VEVENT
DTSTART;TZID=Asia/Kuala_Lumpur:20251231T093000
DTEND;TZID=Asia/Kuala_Lumpur:20251231T103000
DTSTAMP:20260421T094006
CREATED:20251219T041424Z
LAST-MODIFIED:20251219T041424Z
UID:2383-1767173400-1767177000@pekantampin.nadi.my
SUMMARY:SCHOOL FUN BREAK AT NADI x WELLBEING : SNACK MACAM ATLET!
DESCRIPTION:
URL:https://pekantampin.nadi.my/event/school-fun-break-at-nadi-x-wellbeing-snack-macam-atlet/
CATEGORIES:DEFAULT
END:VEVENT
END:VCALENDAR