BEGIN:VCALENDAR
VERSION:2.0
PRODID:-//NADI Pekan Tampin - ECPv6.15.13.1//NONSGML v1.0//EN
CALSCALE:GREGORIAN
METHOD:PUBLISH
X-WR-CALNAME:NADI Pekan Tampin
X-ORIGINAL-URL:https://pekantampin.nadi.my
X-WR-CALDESC:Events for NADI Pekan Tampin
REFRESH-INTERVAL;VALUE=DURATION:PT1H
X-Robots-Tag:noindex
X-PUBLISHED-TTL:PT1H
BEGIN:VTIMEZONE
TZID:Asia/Kuala_Lumpur
BEGIN:STANDARD
TZOFFSETFROM:+0800
TZOFFSETTO:+0800
TZNAME:+08
DTSTART:20250101T000000
END:STANDARD
END:VTIMEZONE
BEGIN:VEVENT
DTSTART;TZID=Asia/Kuala_Lumpur:20260429T093000
DTEND;TZID=Asia/Kuala_Lumpur:20260429T110000
DTSTAMP:20260426T041512
CREATED:20260408T074746Z
LAST-MODIFIED:20260408T074746Z
UID:3863-1777455000-1777460400@pekantampin.nadi.my
SUMMARY:NADI x MAHIR MASAK : MINGGU 16 - MAKANAN BARAT BAHAGIAN 1 : TEKNIK PERAPAN & PENYEDIAAN SOS
DESCRIPTION:
URL:https://pekantampin.nadi.my/event/nadi-x-mahir-masak-minggu-16-makanan-barat-bahagian-1-teknik-perapan-penyediaan-sos/
CATEGORIES:DEFAULT
END:VEVENT
BEGIN:VEVENT
DTSTART;TZID=Asia/Kuala_Lumpur:20260429T150000
DTEND;TZID=Asia/Kuala_Lumpur:20260429T163000
DTSTAMP:20260426T041512
CREATED:20260408T074817Z
LAST-MODIFIED:20260408T074817Z
UID:3865-1777474800-1777480200@pekantampin.nadi.my
SUMMARY:NADI x MAHIR JAHIT : MINGGU 16 - GUNTING KEBAYA
DESCRIPTION:
URL:https://pekantampin.nadi.my/event/nadi-x-mahir-jahit-minggu-16-gunting-kebaya/
CATEGORIES:DEFAULT
END:VEVENT
END:VCALENDAR