BEGIN:VCALENDAR
VERSION:2.0
PRODID:-//NADI Pekan Tampin - ECPv6.15.13.1//NONSGML v1.0//EN
CALSCALE:GREGORIAN
METHOD:PUBLISH
X-WR-CALNAME:NADI Pekan Tampin
X-ORIGINAL-URL:https://pekantampin.nadi.my
X-WR-CALDESC:Events for NADI Pekan Tampin
REFRESH-INTERVAL;VALUE=DURATION:PT1H
X-Robots-Tag:noindex
X-PUBLISHED-TTL:PT1H
BEGIN:VTIMEZONE
TZID:Asia/Kuala_Lumpur
BEGIN:STANDARD
TZOFFSETFROM:+0800
TZOFFSETTO:+0800
TZNAME:+08
DTSTART:20250101T000000
END:STANDARD
END:VTIMEZONE
BEGIN:VEVENT
DTSTART;VALUE=DATE:20260420
DTEND;VALUE=DATE:20260426
DTSTAMP:20260425T235233
CREATED:20260408T065652Z
LAST-MODIFIED:20260408T065652Z
UID:3774-1776643200-1777161599@pekantampin.nadi.my
SUMMARY:NADI x DILEA : ENGLISH PROFICIENCY LESSON 29
DESCRIPTION:
URL:https://pekantampin.nadi.my/event/nadi-x-dilea-english-proficiency-lesson-29/
CATEGORIES:DEFAULT
END:VEVENT
BEGIN:VEVENT
DTSTART;TZID=Asia/Kuala_Lumpur:20260425T090000
DTEND;TZID=Asia/Kuala_Lumpur:20260425T130000
DTSTAMP:20260425T235233
CREATED:20260408T074521Z
LAST-MODIFIED:20260425T070825Z
UID:3857-1777107600-1777122000@pekantampin.nadi.my
SUMMARY:NADI x ESPORT : WEBINAR COMPOSITING & EDITING
DESCRIPTION:
URL:https://pekantampin.nadi.my/event/nadi-x-esport-webinar-2/
CATEGORIES:DEFAULT
END:VEVENT
BEGIN:VEVENT
DTSTART;TZID=Asia/Kuala_Lumpur:20260425T100000
DTEND;TZID=Asia/Kuala_Lumpur:20260425T113000
DTSTAMP:20260425T235233
CREATED:20260408T074450Z
LAST-MODIFIED:20260408T074450Z
UID:3855-1777111200-1777116600@pekantampin.nadi.my
SUMMARY:NADI x KIDVENTURE : WEBINAR PEMASARAN 2
DESCRIPTION:
URL:https://pekantampin.nadi.my/event/nadi-x-kidventure-webinar-pemasaran-2-2/
CATEGORIES:DEFAULT
END:VEVENT
BEGIN:VEVENT
DTSTART;TZID=Asia/Kuala_Lumpur:20260425T143000
DTEND;TZID=Asia/Kuala_Lumpur:20260425T153000
DTSTAMP:20260425T235233
CREATED:20260425T070740Z
LAST-MODIFIED:20260425T070740Z
UID:4313-1777127400-1777131000@pekantampin.nadi.my
SUMMARY:NADI x DILEA : WEBINAR BIJAK BERBICARA SIRI 1 – LATIHAN SAJAK
DESCRIPTION:
URL:https://pekantampin.nadi.my/event/nadi-x-dilea-webinar-bijak-berbicara-siri-1-latihan-sajak/
CATEGORIES:DEFAULT
END:VEVENT
END:VCALENDAR