BEGIN:VCALENDAR
VERSION:2.0
PRODID:-//NADI Pekan Tampin - ECPv6.15.13.1//NONSGML v1.0//EN
CALSCALE:GREGORIAN
METHOD:PUBLISH
X-WR-CALNAME:NADI Pekan Tampin
X-ORIGINAL-URL:https://pekantampin.nadi.my
X-WR-CALDESC:Events for NADI Pekan Tampin
REFRESH-INTERVAL;VALUE=DURATION:PT1H
X-Robots-Tag:noindex
X-PUBLISHED-TTL:PT1H
BEGIN:VTIMEZONE
TZID:Asia/Kuala_Lumpur
BEGIN:STANDARD
TZOFFSETFROM:+0800
TZOFFSETTO:+0800
TZNAME:+08
DTSTART:20250101T000000
END:STANDARD
END:VTIMEZONE
BEGIN:VEVENT
DTSTART;VALUE=DATE:20260406
DTEND;VALUE=DATE:20260413
DTSTAMP:20260420T140433
CREATED:20260408T065628Z
LAST-MODIFIED:20260408T065628Z
UID:3772-1775433600-1776038399@pekantampin.nadi.my
SUMMARY:NADI x DILEA : ENGLISH PROFICIENCY LESSON 28
DESCRIPTION:
URL:https://pekantampin.nadi.my/event/nadi-x-dilea-english-proficiency-lesson-28/
CATEGORIES:DEFAULT
END:VEVENT
BEGIN:VEVENT
DTSTART;TZID=Asia/Kuala_Lumpur:20260411T100000
DTEND;TZID=Asia/Kuala_Lumpur:20260411T113000
DTSTAMP:20260420T140433
CREATED:20260408T072557Z
LAST-MODIFIED:20260408T072557Z
UID:3812-1775901600-1775907000@pekantampin.nadi.my
SUMMARY:NADI x KIDVENTURE : WEBINAR OPERASI PERNIAGAAN
DESCRIPTION:
URL:https://pekantampin.nadi.my/event/nadi-x-kidventure-webinar-operasi-perniagaan/
CATEGORIES:DEFAULT
END:VEVENT
BEGIN:VEVENT
DTSTART;TZID=Asia/Kuala_Lumpur:20260411T143000
DTEND;TZID=Asia/Kuala_Lumpur:20260411T163000
DTSTAMP:20260420T140433
CREATED:20260408T072627Z
LAST-MODIFIED:20260408T072627Z
UID:3814-1775917800-1775925000@pekantampin.nadi.my
SUMMARY:NADI x DILEA : WEBINAR BAHASA MELAYU TEKNIK PENULISAN KARANGAN FORM 1\, 2 & 3
DESCRIPTION:
URL:https://pekantampin.nadi.my/event/nadi-x-dilea-webinar-bahasa-melayu-teknik-penulisan-karangan-form-1-2-3/
CATEGORIES:DEFAULT
END:VEVENT
END:VCALENDAR