BEGIN:VCALENDAR
VERSION:2.0
PRODID:-//NADI Pekan Tampin - ECPv6.15.13.1//NONSGML v1.0//EN
CALSCALE:GREGORIAN
METHOD:PUBLISH
X-WR-CALNAME:NADI Pekan Tampin
X-ORIGINAL-URL:https://pekantampin.nadi.my
X-WR-CALDESC:Events for NADI Pekan Tampin
REFRESH-INTERVAL;VALUE=DURATION:PT1H
X-Robots-Tag:noindex
X-PUBLISHED-TTL:PT1H
BEGIN:VTIMEZONE
TZID:Asia/Kuala_Lumpur
BEGIN:STANDARD
TZOFFSETFROM:+0800
TZOFFSETTO:+0800
TZNAME:+08
DTSTART:20250101T000000
END:STANDARD
END:VTIMEZONE
BEGIN:VEVENT
DTSTART;TZID=Asia/Kuala_Lumpur:20260210T093000
DTEND;TZID=Asia/Kuala_Lumpur:20260210T110000
DTSTAMP:20260422T141554
CREATED:20260212T093545Z
LAST-MODIFIED:20260212T093545Z
UID:3261-1770715800-1770721200@pekantampin.nadi.my
SUMMARY:NADI x MAHIR FOTO : MINGGU 5 : TIPS SMARTPHONE
DESCRIPTION:
URL:https://pekantampin.nadi.my/event/nadi-x-mahir-foto-minggu-5-tips-smartphone/
CATEGORIES:DEFAULT
END:VEVENT
BEGIN:VEVENT
DTSTART;TZID=Asia/Kuala_Lumpur:20260210T140000
DTEND;TZID=Asia/Kuala_Lumpur:20260210T150000
DTSTAMP:20260422T141554
CREATED:20260212T093508Z
LAST-MODIFIED:20260212T093508Z
UID:3259-1770732000-1770735600@pekantampin.nadi.my
SUMMARY:NADI x ENTREPRENEUR : VIDEO PRA-LATIHAN OPERASI PERNIAGAAN
DESCRIPTION:
URL:https://pekantampin.nadi.my/event/nadi-x-entrepreneur-video-pra-latihan-operasi-perniagaan/
CATEGORIES:DEFAULT
END:VEVENT
END:VCALENDAR