BEGIN:VCALENDAR
VERSION:2.0
PRODID:-//NADI Pekan Tampin - ECPv6.15.13.1//NONSGML v1.0//EN
CALSCALE:GREGORIAN
METHOD:PUBLISH
X-WR-CALNAME:NADI Pekan Tampin
X-ORIGINAL-URL:https://pekantampin.nadi.my
X-WR-CALDESC:Events for NADI Pekan Tampin
REFRESH-INTERVAL;VALUE=DURATION:PT1H
X-Robots-Tag:noindex
X-PUBLISHED-TTL:PT1H
BEGIN:VTIMEZONE
TZID:Asia/Kuala_Lumpur
BEGIN:STANDARD
TZOFFSETFROM:+0800
TZOFFSETTO:+0800
TZNAME:+08
DTSTART:20250101T000000
END:STANDARD
END:VTIMEZONE
BEGIN:VEVENT
DTSTART;TZID=Asia/Kuala_Lumpur:20260121T093000
DTEND;TZID=Asia/Kuala_Lumpur:20260121T110000
DTSTAMP:20260421T045200
CREATED:20260106T035632Z
LAST-MODIFIED:20260106T035632Z
UID:2447-1768987800-1768993200@pekantampin.nadi.my
SUMMARY:NADI x MAHIR MASAK
DESCRIPTION:
URL:https://pekantampin.nadi.my/event/nadi-x-mahir-masak/
CATEGORIES:DEFAULT
END:VEVENT
BEGIN:VEVENT
DTSTART;TZID=Asia/Kuala_Lumpur:20260121T150000
DTEND;TZID=Asia/Kuala_Lumpur:20260121T163000
DTSTAMP:20260421T045200
CREATED:20260106T035732Z
LAST-MODIFIED:20260106T035732Z
UID:2452-1769007600-1769013000@pekantampin.nadi.my
SUMMARY:NADI x MAHIR JAHIT
DESCRIPTION:
URL:https://pekantampin.nadi.my/event/nadi-x-mahir-jahit/
CATEGORIES:DEFAULT
END:VEVENT
END:VCALENDAR