BEGIN:VCALENDAR
VERSION:2.0
PRODID:-//NADI Pekan Tampin - ECPv6.15.13.1//NONSGML v1.0//EN
CALSCALE:GREGORIAN
METHOD:PUBLISH
X-WR-CALNAME:NADI Pekan Tampin
X-ORIGINAL-URL:https://pekantampin.nadi.my
X-WR-CALDESC:Events for NADI Pekan Tampin
REFRESH-INTERVAL;VALUE=DURATION:PT1H
X-Robots-Tag:noindex
X-PUBLISHED-TTL:PT1H
BEGIN:VTIMEZONE
TZID:Asia/Kuala_Lumpur
BEGIN:STANDARD
TZOFFSETFROM:+0800
TZOFFSETTO:+0800
TZNAME:+08
DTSTART:20250101T000000
END:STANDARD
END:VTIMEZONE
BEGIN:VEVENT
DTSTART;TZID=Asia/Kuala_Lumpur:20260120T093000
DTEND;TZID=Asia/Kuala_Lumpur:20260120T110000
DTSTAMP:20260421T035136
CREATED:20260106T035534Z
LAST-MODIFIED:20260106T035534Z
UID:2443-1768901400-1768906800@pekantampin.nadi.my
SUMMARY:NADI x MAHIR FOTO
DESCRIPTION:
URL:https://pekantampin.nadi.my/event/nadi-x-mahir-foto-2/
CATEGORIES:DEFAULT
END:VEVENT
BEGIN:VEVENT
DTSTART;TZID=Asia/Kuala_Lumpur:20260120T153000
DTEND;TZID=Asia/Kuala_Lumpur:20260120T163000
DTSTAMP:20260421T035136
CREATED:20260106T032520Z
LAST-MODIFIED:20260106T032520Z
UID:2410-1768923000-1768926600@pekantampin.nadi.my
SUMMARY:NADI x DILEA : OPEN TUITION FORM 1 – 5 BAHASA INGGERIS
DESCRIPTION:
URL:https://pekantampin.nadi.my/event/nadi-x-dilea-open-tuition-form-1-5-bahasa-inggeris-2/
CATEGORIES:DEFAULT
END:VEVENT
END:VCALENDAR