BEGIN:VCALENDAR
VERSION:2.0
PRODID:-//NADI Pekan Tampin - ECPv6.15.13.1//NONSGML v1.0//EN
CALSCALE:GREGORIAN
METHOD:PUBLISH
X-WR-CALNAME:NADI Pekan Tampin
X-ORIGINAL-URL:https://pekantampin.nadi.my
X-WR-CALDESC:Events for NADI Pekan Tampin
REFRESH-INTERVAL;VALUE=DURATION:PT1H
X-Robots-Tag:noindex
X-PUBLISHED-TTL:PT1H
BEGIN:VTIMEZONE
TZID:Asia/Kuala_Lumpur
BEGIN:STANDARD
TZOFFSETFROM:+0800
TZOFFSETTO:+0800
TZNAME:+08
DTSTART:20250101T000000
END:STANDARD
END:VTIMEZONE
BEGIN:VEVENT
DTSTART;TZID=Asia/Kuala_Lumpur:20260115T100000
DTEND;TZID=Asia/Kuala_Lumpur:20260115T120000
DTSTAMP:20260420T224400
CREATED:20260111T032414Z
LAST-MODIFIED:20260111T032651Z
UID:2533-1768471200-1768478400@pekantampin.nadi.my
SUMMARY:NADI x ENTREPRENUER (NADIPRENEUR & EMPOWERHER) : WEBINAR PERANCANGAN PERNIAGAAN
DESCRIPTION:
URL:https://pekantampin.nadi.my/event/nadi-x-entreprenuer-nadipreneur-empowher-webinar-perancangan-perniagaan/
CATEGORIES:DEFAULT
END:VEVENT
BEGIN:VEVENT
DTSTART;TZID=Asia/Kuala_Lumpur:20260115T150000
DTEND;TZID=Asia/Kuala_Lumpur:20260115T163000
DTSTAMP:20260420T224400
CREATED:20260106T040023Z
LAST-MODIFIED:20260106T040023Z
UID:2456-1768489200-1768494600@pekantampin.nadi.my
SUMMARY:NADI x CYBERSECURITY : WEBINAR ANCAMAN SIBER DALAM DUNIA DIGITAL
DESCRIPTION:
URL:https://pekantampin.nadi.my/event/nadi-x-cybersecurity-webinar-ancaman-siber-dalam-dunia-digital/
CATEGORIES:DEFAULT
END:VEVENT
END:VCALENDAR