BEGIN:VCALENDAR
VERSION:2.0
PRODID:-//NADI Pekan Tampin - ECPv6.15.13.1//NONSGML v1.0//EN
CALSCALE:GREGORIAN
METHOD:PUBLISH
X-WR-CALNAME:NADI Pekan Tampin
X-ORIGINAL-URL:https://pekantampin.nadi.my
X-WR-CALDESC:Events for NADI Pekan Tampin
REFRESH-INTERVAL;VALUE=DURATION:PT1H
X-Robots-Tag:noindex
X-PUBLISHED-TTL:PT1H
BEGIN:VTIMEZONE
TZID:Asia/Kuala_Lumpur
BEGIN:STANDARD
TZOFFSETFROM:+0800
TZOFFSETTO:+0800
TZNAME:+08
DTSTART:20240101T000000
END:STANDARD
END:VTIMEZONE
BEGIN:VEVENT
DTSTART;VALUE=DATE:20251222
DTEND;VALUE=DATE:20251223
DTSTAMP:20260421T163628
CREATED:20251219T032742Z
LAST-MODIFIED:20251219T040624Z
UID:2347-1766361600-1766447999@pekantampin.nadi.my
SUMMARY:SCHOOL FUN BREAK AT NADI x E SUKAN : PERTANDINGAN EFOOTBALL PERINGKAT NEGERI
DESCRIPTION:
URL:https://pekantampin.nadi.my/event/school-fun-break-at-nadi-x-e-sukan-pertandingan-efootball-peringkat-negeri/
CATEGORIES:DEFAULT
END:VEVENT
BEGIN:VEVENT
DTSTART;VALUE=DATE:20251222
DTEND;VALUE=DATE:20251223
DTSTAMP:20260421T163628
CREATED:20251219T023339Z
LAST-MODIFIED:20251219T040653Z
UID:2342-1766361600-1766447999@pekantampin.nadi.my
SUMMARY:SCHOOL FUN BREAK AT NADI x CYBERSECURITY : SIRI EDUSIBER @ NADI
DESCRIPTION:
URL:https://pekantampin.nadi.my/event/school-fun-break-at-nadi-x-cybersecurity-siri-edusiber-nadi/
CATEGORIES:DEFAULT
END:VEVENT
BEGIN:VEVENT
DTSTART;VALUE=DATE:20251222
DTEND;VALUE=DATE:20251223
DTSTAMP:20260421T163628
CREATED:20251219T032622Z
LAST-MODIFIED:20251219T040547Z
UID:2345-1766361600-1766447999@pekantampin.nadi.my
SUMMARY:SCHOOL FUN BREAK AT NADI x TINY TECHIES - KUIZ : TONTON\, BELAJAR\, BERMAIN !
DESCRIPTION:
URL:https://pekantampin.nadi.my/event/school-fun-break-at-nadi-x-tiny-techies-kuiz-tonton-belajar-bermain/
CATEGORIES:DEFAULT
END:VEVENT
BEGIN:VEVENT
DTSTART;TZID=Asia/Kuala_Lumpur:20251223T091500
DTEND;TZID=Asia/Kuala_Lumpur:20251223T163000
DTSTAMP:20260421T163628
CREATED:20251210T090045Z
LAST-MODIFIED:20251210T090045Z
UID:2174-1766481300-1766507400@pekantampin.nadi.my
SUMMARY:NADI x DILEA : OPEN TUITION SAINS FORM 1&2 (9:15AM – 10:15AM) FORM 3\,4&5 (3:30PM-4:30PM)
DESCRIPTION:
URL:https://pekantampin.nadi.my/event/nadi-x-dilea-open-tuition-sains-form-12-915am-1015am-form-345-330pm-430pm/
CATEGORIES:DEFAULT
END:VEVENT
BEGIN:VEVENT
DTSTART;TZID=Asia/Kuala_Lumpur:20251223T091500
DTEND;TZID=Asia/Kuala_Lumpur:20251223T163000
DTSTAMP:20260421T163628
CREATED:20251219T033427Z
LAST-MODIFIED:20251219T033427Z
UID:2353-1766481300-1766507400@pekantampin.nadi.my
SUMMARY:SCHOOL FUN BREAK AT NADI x DILEA : TUISYEN RAKYAT FUN LAB SAINS - Tingkatan 1&2 (Sesi Pagi) 9:15AM-10:15AM) | Tingkatan 3\,4&5 (Sesi Petang) 3:30PM-4:30PM
DESCRIPTION:
URL:https://pekantampin.nadi.my/event/school-fun-break-at-nadi-x-dilea-tuisyen-rakyat-fun-lab-sains-tingkatan-12-sesi-pagi-915am-1015am-tingkatan-345-sesi-petang-330pm-430pm/
CATEGORIES:DEFAULT
END:VEVENT
BEGIN:VEVENT
DTSTART;TZID=Asia/Kuala_Lumpur:20251223T103000
DTEND;TZID=Asia/Kuala_Lumpur:20251223T113000
DTSTAMP:20260421T163628
CREATED:20251219T034455Z
LAST-MODIFIED:20251219T034455Z
UID:2359-1766485800-1766489400@pekantampin.nadi.my
SUMMARY:SCHOOL FUN BREAK AT NADI x WELLBEING : TEKANAN DARAH TINGGI - DIAM-DIAM BOLEH BAWA MATI!?
DESCRIPTION:
URL:https://pekantampin.nadi.my/event/school-fun-break-at-nadi-x-wellbeing-tekanan-darah-tinggi-diam-diam-boleh-bawa-mati/
CATEGORIES:DEFAULT
END:VEVENT
BEGIN:VEVENT
DTSTART;TZID=Asia/Kuala_Lumpur:20251223T113000
DTEND;TZID=Asia/Kuala_Lumpur:20251223T123000
DTSTAMP:20260421T163628
CREATED:20251219T035254Z
LAST-MODIFIED:20251219T035254Z
UID:2367-1766489400-1766493000@pekantampin.nadi.my
SUMMARY:SCHOOL FUN BREAK AT NADI x MAHIR FOTO : WEBINAR NADI360 - SHOW YOUR SPOT
DESCRIPTION:
URL:https://pekantampin.nadi.my/event/school-fun-break-at-nadi-x-mahir-foto-webinar-nadi360-show-your-spot/
CATEGORIES:DEFAULT
END:VEVENT
BEGIN:VEVENT
DTSTART;TZID=Asia/Kuala_Lumpur:20251223T150000
DTEND;TZID=Asia/Kuala_Lumpur:20251223T160000
DTSTAMP:20260421T163628
CREATED:20251219T035759Z
LAST-MODIFIED:20251219T035759Z
UID:2373-1766502000-1766505600@pekantampin.nadi.my
SUMMARY:SCHOOL FUN BREAK AT NADI x KEMPEN INTERNET SELAMAT (KIS) : KIS WAR
DESCRIPTION:
URL:https://pekantampin.nadi.my/event/school-fun-break-at-nadi-x-kempen-internet-selamat-kis-kis-war/
CATEGORIES:DEFAULT
END:VEVENT
END:VCALENDAR