BEGIN:VCALENDAR
VERSION:2.0
PRODID:-//NADI Pekan Tampin - ECPv6.15.13.1//NONSGML v1.0//EN
CALSCALE:GREGORIAN
METHOD:PUBLISH
X-WR-CALNAME:NADI Pekan Tampin
X-ORIGINAL-URL:https://pekantampin.nadi.my
X-WR-CALDESC:Events for NADI Pekan Tampin
REFRESH-INTERVAL;VALUE=DURATION:PT1H
X-Robots-Tag:noindex
X-PUBLISHED-TTL:PT1H
BEGIN:VTIMEZONE
TZID:Asia/Kuala_Lumpur
BEGIN:STANDARD
TZOFFSETFROM:+0800
TZOFFSETTO:+0800
TZNAME:+08
DTSTART:20240101T000000
END:STANDARD
END:VTIMEZONE
BEGIN:VEVENT
DTSTART;TZID=Asia/Kuala_Lumpur:20251218T091500
DTEND;TZID=Asia/Kuala_Lumpur:20251218T163000
DTSTAMP:20260421T163629
CREATED:20251210T073910Z
LAST-MODIFIED:20251210T073910Z
UID:2169-1766049300-1766075400@pekantampin.nadi.my
SUMMARY:NADI x DILEA : OPEN TUITION BAHASA MELAYU FORM 1&2 (9:15AM – 10:15AM) FORM 3\,4&5 (3:30PM-4:30PM)
DESCRIPTION:
URL:https://pekantampin.nadi.my/event/nadi-x-dilea-open-tuition-bahasa-melayu-form-12-915am-1015am-form-345-330pm-430pm/
CATEGORIES:DEFAULT
END:VEVENT
BEGIN:VEVENT
DTSTART;TZID=Asia/Kuala_Lumpur:20251218T150000
DTEND;TZID=Asia/Kuala_Lumpur:20251218T163000
DTSTAMP:20260421T163629
CREATED:20251210T082517Z
LAST-MODIFIED:20251210T082517Z
UID:2171-1766070000-1766075400@pekantampin.nadi.my
SUMMARY:NADI x CYBERSECURITY : WEBINAR ANCAMAN KAMERA TERSEMBUNYI\, APA YANG PERLU ANDA TAHU SLOT 2
DESCRIPTION:
URL:https://pekantampin.nadi.my/event/nadi-x-cybersecurity-webinar-ancaman-kamera-tersembunyi-apa-yang-perlu-anda-tahu-slot-2/
CATEGORIES:DEFAULT
END:VEVENT
END:VCALENDAR