BEGIN:VCALENDAR
VERSION:2.0
PRODID:-//NADI Pekan Tampin - ECPv6.15.13.1//NONSGML v1.0//EN
CALSCALE:GREGORIAN
METHOD:PUBLISH
X-WR-CALNAME:NADI Pekan Tampin
X-ORIGINAL-URL:https://pekantampin.nadi.my
X-WR-CALDESC:Events for NADI Pekan Tampin
REFRESH-INTERVAL;VALUE=DURATION:PT1H
X-Robots-Tag:noindex
X-PUBLISHED-TTL:PT1H
BEGIN:VTIMEZONE
TZID:Asia/Kuala_Lumpur
BEGIN:STANDARD
TZOFFSETFROM:+0800
TZOFFSETTO:+0800
TZNAME:+08
DTSTART:20240101T000000
END:STANDARD
END:VTIMEZONE
BEGIN:VEVENT
DTSTART;VALUE=DATE:20251217
DTEND;VALUE=DATE:20251218
DTSTAMP:20260421T163629
CREATED:20251210T073805Z
LAST-MODIFIED:20251210T073805Z
UID:2167-1765929600-1766015999@pekantampin.nadi.my
SUMMARY:NADI x KEUSAHAWANAN COHORT 6 : PODCAST NADIPRENEUR “TAWARAN NILAI HEBAT\, PELANGGAN PASTI TERPIKAT”
DESCRIPTION:
URL:https://pekantampin.nadi.my/event/nadi-x-keusahawanan-cohort-6-podcast-nadipreneur-tawaran-nilai-hebat-pelanggan-pasti-terpikat/
CATEGORIES:DEFAULT
END:VEVENT
END:VCALENDAR